BEGIN:VCALENDAR
VERSION:2.0
PRODID:-//hacksw/handcal//NONSGML v1.0//EN
BEGIN:VEVENT
DTSTAMP:20260808T230000Z
DTSTART:20260808T230000Z
DTEND:20260809T020000Z

SUMMARY:Barry Manilow
DESCRIPTION:Due to health concerns and on the advice of his doctor, the Barry Manilow show originally scheduled at Chartway Arena for Monday, March 2, 2026, has been rescheduled to Saturday, August 8, 2026. After a recent visit with his surgeon, Barry was advised that while he is making strong progress in his recovery, he is not yet ready to perform a full 90-minute arena show. Although he has been working hard to regain his strength, his body needs additional time to fully heal.Barry is deeply disappointed to postpone these performances and truly appreciates the continued support, patience, and well wishes from his fans. He looks forward to returning to the stage soon and promises that when he does, he will be ready to give you the show you deserve.For questions, please contact the Chartway Arena Box Office at (757) 683-4444 or ChartwayArena@odu.edu.
END:VEVENT
END:VCALENDAR