BEGIN:VCALENDAR
VERSION:2.0
PRODID:-//hacksw/handcal//NONSGML v1.0//EN
BEGIN:VEVENT
DTSTAMP:20260823T233000Z
DTSTART:20260823T233000Z
DTEND:20260824T013000Z

SUMMARY:Labrinth: The Undoing Tour - Presented by the Cosmic Opera
DESCRIPTION:Chartway Arena and Virginia Arts Festival is proud to host Labrinth - The Undoing Tour Presented by the Cosmic Opera on Sunday, August 23 – with The Virginia Symphony Orchestra. An artist and composer whose work centers on complex, multi-layered emotional storytelling that is both experimental and melodic, Labrinth makes the announcement coming off two performances at Coachella, where he delivered some of the weekends’ most visceral and memorable sets. The tour launches six weeks after the album&#39;s release, carrying that momentum into a live setting.The tour is built in two distinct formats: headline club shows in Los Angeles and New York, and a series of orchestral nights where Labrinth performs his songs with full live orchestral backing from some of the country&#39;s leading symphony orchestras including material from Cosmic Opera Act 2. He will also serve as one of the major acts kicking off Outside Lands Music and Arts Festival in San Francisco on opening night, August 7.The combination of a major festival slot, boutique headline shows, and multi-city orchestral programming positions this as one of the more intentionally designed touring campaigns of the summer, a natural extension of an artist whose pop sensibility and compositional range rarely coexist at this level. 
END:VEVENT
END:VCALENDAR