BEGIN:VCALENDAR
VERSION:2.0
PRODID:-//hacksw/handcal//NONSGML v1.0//EN
BEGIN:VEVENT
DTSTAMP:20260530T000000Z
DTSTART:20260530T000000Z
DTEND:20260530T020000Z

SUMMARY:Los Tigres del Norte
DESCRIPTION:Los Tigres del Norte have been bringing their music to audiences all across the globe for nearly 40 years. Referred to as “the most influential regional Mexican group” by Billboard, the band has built a reputation as a leading Latin music artist. Los Tigres del Norte have won several Grammys and sold millions of albums worldwide. To this day, their new releases continue to top the charts and captivate audiences of all ages. In addition, the band has been highlighted for its massive success in documentaries, television, and more.
END:VEVENT
END:VCALENDAR