BEGIN:VCALENDAR
VERSION:2.0
PRODID:-//hacksw/handcal//NONSGML v1.0//EN
BEGIN:VEVENT
DTSTAMP:20260913T000000Z
DTSTART:20260913T000000Z
DTEND:20260913T040000Z

SUMMARY:Meek Mill
DESCRIPTION:The performance by Meek Mill with special guest G Herbo originally scheduled for Saturday, April 25, 2026 has been rescheduled for Saturday,September 12, 2026.Hold onto your tickets! All previously purchased tickets will be honored for the new date—no action needed. For questions or to purchase tickets, please contact the Chartway Arena Box Office at (757) 683-4444 or ChartwayArena@odu.edu.
END:VEVENT
END:VCALENDAR