BEGIN:VCALENDAR
VERSION:2.0
PRODID:-//hacksw/handcal//NONSGML v1.0//EN
BEGIN:VEVENT
DTSTAMP:20260527T170000Z
DTSTART:20260527T170000Z
DTEND:20260528T010000Z

SUMMARY:Norfolk Public Schools High School Graduation
DESCRIPTION:We are pleased to inform you that Norfolk Public Schools will be conducting its graduation ceremonies for the Class of 2026 at Chartway Arena on May 26 and May 27, 2026!Tuesday, May 26:Norview High School - 4:00pmBooker T. Washington High School - 7:00pmWednesday, May 27:Granby High School - 1:00pmLake Taylor High School - 4:00pmMaury High School - 7:00pm 
END:VEVENT
END:VCALENDAR