BEGIN:VCALENDAR
VERSION:2.0
PRODID:-//hacksw/handcal//NONSGML v1.0//EN
BEGIN:VEVENT
DTSTAMP:20260528T173000Z
DTSTART:20260528T173000Z
DTEND:20260529T003000Z

SUMMARY:Portsmouth Public Schools High School Graduation
DESCRIPTION:We are pleased to inform you that Portsmouth Public Schools will be conducting its graduation ceremonies for the Class of 2026 at Chartway Arena on May 28, 2026!Thursday, May 28:Churchland High School - 1:30pmManor High School - 4:30pmNorcom High School - 7:30pm
END:VEVENT
END:VCALENDAR