BEGIN:VCALENDAR
VERSION:2.0
PRODID:-//hacksw/handcal//NONSGML v1.0//EN
BEGIN:VEVENT
DTSTAMP:20260530T130000Z
DTSTART:20260530T130000Z
DTEND:20260530T220000Z

SUMMARY:Suffolk Public Schools High School Graduation
DESCRIPTION:We are pleased to inform you that Suffolk Public Schools will be conducting its graduation ceremonies for the Class of 2026 at Chartway Arena on May 30, 2026!Saturday, May 30:Kings Fork High School - 9:00amNansemond River High School - 12:30pmLakeland High School - 4:00pm
END:VEVENT
END:VCALENDAR